BEGIN:VCALENDAR
VERSION:2.0
PRODID:-//Jörg Wilms - ECPv6.15.18//NONSGML v1.0//EN
CALSCALE:GREGORIAN
METHOD:PUBLISH
X-WR-CALNAME:Jörg Wilms
X-ORIGINAL-URL:https://www.joergwilms.de
X-WR-CALDESC:Veranstaltungen für Jörg Wilms
REFRESH-INTERVAL;VALUE=DURATION:PT1H
X-Robots-Tag:noindex
X-PUBLISHED-TTL:PT1H
BEGIN:VTIMEZONE
TZID:Europe/Berlin
BEGIN:DAYLIGHT
TZOFFSETFROM:+0100
TZOFFSETTO:+0200
TZNAME:CEST
DTSTART:20190331T010000
END:DAYLIGHT
BEGIN:STANDARD
TZOFFSETFROM:+0200
TZOFFSETTO:+0100
TZNAME:CET
DTSTART:20191027T010000
END:STANDARD
BEGIN:DAYLIGHT
TZOFFSETFROM:+0100
TZOFFSETTO:+0200
TZNAME:CEST
DTSTART:20200329T010000
END:DAYLIGHT
BEGIN:STANDARD
TZOFFSETFROM:+0200
TZOFFSETTO:+0100
TZNAME:CET
DTSTART:20201025T010000
END:STANDARD
BEGIN:DAYLIGHT
TZOFFSETFROM:+0100
TZOFFSETTO:+0200
TZNAME:CEST
DTSTART:20210328T010000
END:DAYLIGHT
BEGIN:STANDARD
TZOFFSETFROM:+0200
TZOFFSETTO:+0100
TZNAME:CET
DTSTART:20211031T010000
END:STANDARD
END:VTIMEZONE
BEGIN:VEVENT
DTSTART;TZID=Europe/Berlin:20200528T183000
DTEND;TZID=Europe/Berlin:20200528T193000
DTSTAMP:20260424T193348
CREATED:20200209T150634Z
LAST-MODIFIED:20231227T140100Z
UID:262-1590690600-1590694200@www.joergwilms.de
SUMMARY:Glück auf - Der Traum vom Glück
DESCRIPTION:vom Theater Himmelblau präsentiert. \nDer Eintritt ist frei\, es wird um Spenden gebeten.\nKartenvorbestellung: montags-freitags\, Tel.: 02041/70-3308 09.00-12.30 Uhr montags\, dienstags\, donnerstags\, freitags 15.00-16.30 Uhr
URL:https://www.joergwilms.de/event/glueck-auf-der-traum-vom-glueck/
LOCATION:Kammerkonzertsaal – August Everding Kulturzentrum\, Blumenstraße 12-14\, Bottrop\, 46236\, Deutschland
END:VEVENT
END:VCALENDAR